BEGIN:VCALENDAR
VERSION:2.0
PRODID:-//BSST - ECPv6.1.3//NONSGML v1.0//EN
CALSCALE:GREGORIAN
METHOD:PUBLISH
X-WR-CALNAME:BSST
X-ORIGINAL-URL:https://bsst.stolnitenis.net
X-WR-CALDESC:Akce na BSST
REFRESH-INTERVAL;VALUE=DURATION:PT1H
X-Robots-Tag:noindex
X-PUBLISHED-TTL:PT1H
BEGIN:VTIMEZONE
TZID:Europe/Prague
BEGIN:DAYLIGHT
TZOFFSETFROM:+0100
TZOFFSETTO:+0200
TZNAME:CEST
DTSTART:20260329T010000
END:DAYLIGHT
BEGIN:STANDARD
TZOFFSETFROM:+0200
TZOFFSETTO:+0100
TZNAME:CET
DTSTART:20261025T010000
END:STANDARD
END:VTIMEZONE
BEGIN:VEVENT
DTSTART;TZID=Europe/Prague:20260301T080000
DTEND;TZID=Europe/Prague:20260301T170000
DTSTAMP:20260420T152947
CREATED:20260227T123400Z
LAST-MODIFIED:20260318T184205Z
UID:1613-1772352000-1772384400@bsst.stolnitenis.net
SUMMARY:BTM BSST
DESCRIPTION:2026-03-01 MS Brno \n26-03-01 TTC MS Brno
URL:https://bsst.stolnitenis.net/kalendar/btm-bsst-9/
LOCATION:hala TTC MS Brno\, Vojtova 12\, Brno
END:VEVENT
BEGIN:VEVENT
DTSTART;TZID=Europe/Prague:20260315T080000
DTEND;TZID=Europe/Prague:20260315T170000
DTSTAMP:20260420T152947
CREATED:20260227T123555Z
LAST-MODIFIED:20260318T183421Z
UID:1616-1773561600-1773594000@bsst.stolnitenis.net
SUMMARY:BTM BSST
DESCRIPTION:2026-03-15 MS Brno \n26-03-15 TTC MS Brno
URL:https://bsst.stolnitenis.net/kalendar/btm-bsst-10/
LOCATION:hala TTC MS Brno\, Vojtova 12\, Brno
END:VEVENT
END:VCALENDAR