BEGIN:VCALENDAR
VERSION:2.0
PRODID:-//BSST - ECPv6.1.3//NONSGML v1.0//EN
CALSCALE:GREGORIAN
METHOD:PUBLISH
X-WR-CALNAME:BSST
X-ORIGINAL-URL:https://bsst.stolnitenis.net
X-WR-CALDESC:Akce na BSST
REFRESH-INTERVAL;VALUE=DURATION:PT1H
X-Robots-Tag:noindex
X-PUBLISHED-TTL:PT1H
BEGIN:VTIMEZONE
TZID:Europe/Prague
BEGIN:DAYLIGHT
TZOFFSETFROM:+0100
TZOFFSETTO:+0200
TZNAME:CEST
DTSTART:20180325T010000
END:DAYLIGHT
BEGIN:STANDARD
TZOFFSETFROM:+0200
TZOFFSETTO:+0100
TZNAME:CET
DTSTART:20181028T010000
END:STANDARD
END:VTIMEZONE
BEGIN:VEVENT
DTSTART;VALUE=DATE:20181201
DTEND;VALUE=DATE:20181202
DTSTAMP:20260422T212641
CREATED:20181023T075141Z
LAST-MODIFIED:20181126T071113Z
UID:646-1543622400-1543708799@bsst.stolnitenis.net
SUMMARY:MP mladšího žactva a dorostu
DESCRIPTION:MP mladší žactvo \nMP dorost
URL:https://bsst.stolnitenis.net/kalendar/mp-mladsiho-zactva-a-dorostu/
LOCATION:hala TTC MS Brno\, Vojtova 12\, Brno
END:VEVENT
BEGIN:VEVENT
DTSTART;VALUE=DATE:20181202
DTEND;VALUE=DATE:20181203
DTSTAMP:20260422T212641
CREATED:20181023T075234Z
LAST-MODIFIED:20181125T080332Z
UID:647-1543708800-1543795199@bsst.stolnitenis.net
SUMMARY:MP staršího žactva
DESCRIPTION:MP starší žactvo
URL:https://bsst.stolnitenis.net/kalendar/mp-starsiho-zactva/
LOCATION:hala TTC MS Brno\, Vojtova 12\, Brno
END:VEVENT
BEGIN:VEVENT
DTSTART;VALUE=DATE:20181216
DTEND;VALUE=DATE:20181217
DTSTAMP:20260422T212641
CREATED:20181126T071432Z
LAST-MODIFIED:20181207T070628Z
UID:671-1544918400-1545004799@bsst.stolnitenis.net
SUMMARY:BTM BSST
DESCRIPTION:2018_12_16 Sokol Židenice
URL:https://bsst.stolnitenis.net/kalendar/btm-bsst-4/
LOCATION:Sokol Židenice\, Gajdošova 18/20\, Brno\, Jihomoravský\, Česká republika
END:VEVENT
END:VCALENDAR