BEGIN:VCALENDAR
VERSION:2.0
PRODID:-//BSST - ECPv6.1.3//NONSGML v1.0//EN
CALSCALE:GREGORIAN
METHOD:PUBLISH
X-WR-CALNAME:BSST
X-ORIGINAL-URL:https://bsst.stolnitenis.net
X-WR-CALDESC:Akce na BSST
REFRESH-INTERVAL;VALUE=DURATION:PT1H
X-Robots-Tag:noindex
X-PUBLISHED-TTL:PT1H
BEGIN:VTIMEZONE
TZID:Europe/Prague
BEGIN:DAYLIGHT
TZOFFSETFROM:+0100
TZOFFSETTO:+0200
TZNAME:CEST
DTSTART:20160327T010000
END:DAYLIGHT
BEGIN:STANDARD
TZOFFSETFROM:+0200
TZOFFSETTO:+0100
TZNAME:CET
DTSTART:20161030T010000
END:STANDARD
END:VTIMEZONE
BEGIN:VEVENT
DTSTART;VALUE=DATE:20161117
DTEND;VALUE=DATE:20161118
DTSTAMP:20260424T160659
CREATED:20161102T080926Z
LAST-MODIFIED:20161102T080926Z
UID:333-1479340800-1479427199@bsst.stolnitenis.net
SUMMARY:městský přebor dorostu
DESCRIPTION:mp-dorost
URL:https://bsst.stolnitenis.net/kalendar/mestsky-prebor-dorostu-2/
LOCATION:hala TTC MS Brno\, Vojtova 12\, Brno
END:VEVENT
BEGIN:VEVENT
DTSTART;VALUE=DATE:20161119
DTEND;VALUE=DATE:20161120
DTSTAMP:20260424T160659
CREATED:20161102T081115Z
LAST-MODIFIED:20161102T081115Z
UID:335-1479513600-1479599999@bsst.stolnitenis.net
SUMMARY:BTM BSST
DESCRIPTION:2016_11_19-sokol-brno
URL:https://bsst.stolnitenis.net/kalendar/btm-bsst-2/
LOCATION:Sokol Brno I.\, Kounicova 20/22\, Brno\, Jihomoravský\, 602 00\, Česká republika
END:VEVENT
END:VCALENDAR