BEGIN:VCALENDAR
VERSION:2.0
PRODID:-//BSST - ECPv6.1.3//NONSGML v1.0//EN
CALSCALE:GREGORIAN
METHOD:PUBLISH
X-WR-CALNAME:BSST
X-ORIGINAL-URL:https://bsst.stolnitenis.net
X-WR-CALDESC:Akce na BSST
REFRESH-INTERVAL;VALUE=DURATION:PT1H
X-Robots-Tag:noindex
X-PUBLISHED-TTL:PT1H
BEGIN:VTIMEZONE
TZID:Europe/Prague
BEGIN:DAYLIGHT
TZOFFSETFROM:+0100
TZOFFSETTO:+0200
TZNAME:CEST
DTSTART:20160327T010000
END:DAYLIGHT
BEGIN:STANDARD
TZOFFSETFROM:+0200
TZOFFSETTO:+0100
TZNAME:CET
DTSTART:20161030T010000
END:STANDARD
END:VTIMEZONE
BEGIN:VEVENT
DTSTART;VALUE=DATE:20160904
DTEND;VALUE=DATE:20160905
DTSTAMP:20260424T195329
CREATED:20160830T075145Z
LAST-MODIFIED:20160830T075145Z
UID:302-1472947200-1473033599@bsst.stolnitenis.net
SUMMARY:BTM Jmk - Hodonín
DESCRIPTION:rozpis-btm-nejmladsi-a-mladsi-zactvo-4.9.2016-hodonin
URL:https://bsst.stolnitenis.net/kalendar/btm-jmk-hodonin-2/
LOCATION:Hodonín\, Lipová alej 23b\, Hodonín
END:VEVENT
BEGIN:VEVENT
DTSTART;VALUE=DATE:20160917
DTEND;VALUE=DATE:20160918
DTSTAMP:20260424T195329
CREATED:20160830T075426Z
LAST-MODIFIED:20160830T075426Z
UID:304-1474070400-1474156799@bsst.stolnitenis.net
SUMMARY:BTM JmK - Brno
DESCRIPTION:Brno_dor_2016
URL:https://bsst.stolnitenis.net/kalendar/btm-jmk-brno/
LOCATION:hala TTC MS Brno\, Vojtova 12\, Brno
END:VEVENT
BEGIN:VEVENT
DTSTART;VALUE=DATE:20160928
DTEND;VALUE=DATE:20160929
DTSTAMP:20260424T195329
CREATED:20160914T084600Z
LAST-MODIFIED:20160914T084600Z
UID:312-1475020800-1475107199@bsst.stolnitenis.net
SUMMARY:Školení rozhodčích licence K
DESCRIPTION:Školení_rozhodčích_28.9.2016_-_pozvánka
URL:https://bsst.stolnitenis.net/kalendar/skoleni-rozhodcich-licence-k/
LOCATION:restaurace U Kopinců\, V Brňanech 2\, Vyškov
END:VEVENT
BEGIN:VEVENT
DTSTART;VALUE=DATE:20160928
DTEND;VALUE=DATE:20160929
DTSTAMP:20260424T195329
CREATED:20160914T084857Z
LAST-MODIFIED:20160914T084857Z
UID:315-1475020800-1475107199@bsst.stolnitenis.net
SUMMARY:BTM BSST
DESCRIPTION:2016_09_28 Sokol Brno
URL:https://bsst.stolnitenis.net/kalendar/btm-bsst/
LOCATION:Sokol Brno I.\, Kounicova 20/22\, Brno\, Jihomoravský\, 602 00\, Česká republika
END:VEVENT
END:VCALENDAR