BEGIN:VCALENDAR
VERSION:2.0
PRODID:-//BSST - ECPv6.1.3//NONSGML v1.0//EN
CALSCALE:GREGORIAN
METHOD:PUBLISH
X-WR-CALNAME:BSST
X-ORIGINAL-URL:https://bsst.stolnitenis.net
X-WR-CALDESC:Akce na BSST
REFRESH-INTERVAL;VALUE=DURATION:PT1H
X-Robots-Tag:noindex
X-PUBLISHED-TTL:PT1H
BEGIN:VTIMEZONE
TZID:Europe/Prague
BEGIN:DAYLIGHT
TZOFFSETFROM:+0100
TZOFFSETTO:+0200
TZNAME:CEST
DTSTART:20150329T010000
END:DAYLIGHT
BEGIN:STANDARD
TZOFFSETFROM:+0200
TZOFFSETTO:+0100
TZNAME:CET
DTSTART:20151025T010000
END:STANDARD
END:VTIMEZONE
BEGIN:VEVENT
DTSTART;VALUE=DATE:20151115
DTEND;VALUE=DATE:20151116
DTSTAMP:20260425T131415
CREATED:20150912T165105Z
LAST-MODIFIED:20151101T145936Z
UID:153-1447545600-1447631999@bsst.stolnitenis.net
SUMMARY:Městský přebor dorostu
DESCRIPTION:MP dorost \nMěstský přebor dorostu
URL:https://bsst.stolnitenis.net/kalendar/mestsky-prebor-dorostu/
LOCATION:Jihomoravský
END:VEVENT
BEGIN:VEVENT
DTSTART;VALUE=DATE:20151117
DTEND;VALUE=DATE:20151118
DTSTAMP:20260425T131415
CREATED:20150913T142339Z
LAST-MODIFIED:20150913T142339Z
UID:158-1447718400-1447804799@bsst.stolnitenis.net
SUMMARY:Městský přebor družstev dorostenců
DESCRIPTION:MP družstva dorci
URL:https://bsst.stolnitenis.net/kalendar/mestsky-prebor-druzstev-dorostencu/
LOCATION:Jihomoravský
END:VEVENT
BEGIN:VEVENT
DTSTART;VALUE=DATE:20151121
DTEND;VALUE=DATE:20151122
DTSTAMP:20260425T131415
CREATED:20151101T150542Z
LAST-MODIFIED:20151101T150542Z
UID:177-1448064000-1448150399@bsst.stolnitenis.net
SUMMARY:BTM BSST - Sokol Brno I.
DESCRIPTION:2015_11_21 Sokol Brno
URL:https://bsst.stolnitenis.net/kalendar/btm-bsst-sokol-brno-i/
LOCATION:Sokol Brno I.\, Kounicova 20/22\, Brno\, Jihomoravský\, 602 00\, Česká republika
END:VEVENT
END:VCALENDAR