BEGIN:VCALENDAR
VERSION:2.0
PRODID:-//BSST - ECPv6.1.3//NONSGML v1.0//EN
CALSCALE:GREGORIAN
METHOD:PUBLISH
X-ORIGINAL-URL:https://bsst.stolnitenis.net
X-WR-CALDESC:Akce na BSST
REFRESH-INTERVAL;VALUE=DURATION:PT1H
X-Robots-Tag:noindex
X-PUBLISHED-TTL:PT1H
BEGIN:VTIMEZONE
TZID:Europe/Prague
BEGIN:DAYLIGHT
TZOFFSETFROM:+0100
TZOFFSETTO:+0200
TZNAME:CEST
DTSTART:20150329T010000
END:DAYLIGHT
BEGIN:STANDARD
TZOFFSETFROM:+0200
TZOFFSETTO:+0100
TZNAME:CET
DTSTART:20151025T010000
END:STANDARD
END:VTIMEZONE
BEGIN:VEVENT
DTSTART;VALUE=DATE:20150910
DTEND;VALUE=DATE:20150911
DTSTAMP:20260425T164853
CREATED:20150626T112619Z
LAST-MODIFIED:20150626T112619Z
UID:103-1441843200-1441929599@bsst.stolnitenis.net
SUMMARY:Soupisky - uzávěrka
DESCRIPTION:Termín pro zadání soupisek do Registru ČAST.
URL:https://bsst.stolnitenis.net/kalendar/soupisky-uzaverka/
LOCATION:Jihomoravský
END:VEVENT
BEGIN:VEVENT
DTSTART;VALUE=DATE:20150921
DTEND;VALUE=DATE:20150922
DTSTAMP:20260425T164853
CREATED:20150912T164113Z
LAST-MODIFIED:20150913T051141Z
UID:152-1442793600-1442879999@bsst.stolnitenis.net
SUMMARY:Zahájení městských soutěží
DESCRIPTION:Termín zahájení městských soutěží
URL:https://bsst.stolnitenis.net/kalendar/zahajeni-mestskych-soutezi/
LOCATION:Jihomoravský
END:VEVENT
END:VCALENDAR