BEGIN:VCALENDAR
VERSION:2.0
PRODID:-//BSST - ECPv6.1.3//NONSGML v1.0//EN
CALSCALE:GREGORIAN
METHOD:PUBLISH
X-WR-CALNAME:BSST
X-ORIGINAL-URL:https://bsst.stolnitenis.net
X-WR-CALDESC:Akce na BSST
REFRESH-INTERVAL;VALUE=DURATION:PT1H
X-Robots-Tag:noindex
X-PUBLISHED-TTL:PT1H
BEGIN:VTIMEZONE
TZID:Europe/Prague
BEGIN:DAYLIGHT
TZOFFSETFROM:+0100
TZOFFSETTO:+0200
TZNAME:CEST
DTSTART:20260329T010000
END:DAYLIGHT
BEGIN:STANDARD
TZOFFSETFROM:+0200
TZOFFSETTO:+0100
TZNAME:CET
DTSTART:20261025T010000
END:STANDARD
END:VTIMEZONE
BEGIN:VEVENT
DTSTART;VALUE=DATE:20260425
DTEND;VALUE=DATE:20260426
DTSTAMP:20260421T120947
CREATED:20260414T103530Z
LAST-MODIFIED:20260414T103530Z
UID:1645-1777075200-1777161599@bsst.stolnitenis.net
SUMMARY:BTM BSST
DESCRIPTION:2026-04-25 Bystrc
URL:https://bsst.stolnitenis.net/kalendar/btm-bsst-11/
LOCATION:TJ Brno-Bystrc\, ZŠ Laštůvkova 77\, Brno\, Jihomoravský\, 63500\, Česká republika
END:VEVENT
END:VCALENDAR