BEGIN:VCALENDAR
VERSION:2.0
PRODID:-//BSST - ECPv6.1.3//NONSGML v1.0//EN
CALSCALE:GREGORIAN
METHOD:PUBLISH
X-ORIGINAL-URL:https://bsst.stolnitenis.net
X-WR-CALDESC:Akce na BSST
REFRESH-INTERVAL;VALUE=DURATION:PT1H
X-Robots-Tag:noindex
X-PUBLISHED-TTL:PT1H
BEGIN:VTIMEZONE
TZID:Europe/Prague
BEGIN:DAYLIGHT
TZOFFSETFROM:+0100
TZOFFSETTO:+0200
TZNAME:CEST
DTSTART:20250330T010000
END:DAYLIGHT
BEGIN:STANDARD
TZOFFSETFROM:+0200
TZOFFSETTO:+0100
TZNAME:CET
DTSTART:20251026T010000
END:STANDARD
END:VTIMEZONE
BEGIN:VEVENT
DTSTART;TZID=Europe/Prague:20251117T080000
DTEND;TZID=Europe/Prague:20251117T170000
DTSTAMP:20260421T190538
CREATED:20251101T142924Z
LAST-MODIFIED:20251118T110648Z
UID:1524-1763366400-1763398800@bsst.stolnitenis.net
SUMMARY:městský přebor U19
DESCRIPTION:25-11-17 MP U19 \nMP U17 U19
URL:https://bsst.stolnitenis.net/kalendar/mestsky-prebor-u19/
LOCATION:hala TTC MS Brno\, Vojtova 12\, Brno
END:VEVENT
END:VCALENDAR