BEGIN:VCALENDAR
VERSION:2.0
PRODID:-//BSST - ECPv6.1.3//NONSGML v1.0//EN
CALSCALE:GREGORIAN
METHOD:PUBLISH
X-ORIGINAL-URL:https://bsst.stolnitenis.net
X-WR-CALDESC:Akce na BSST
REFRESH-INTERVAL;VALUE=DURATION:PT1H
X-Robots-Tag:noindex
X-PUBLISHED-TTL:PT1H
BEGIN:VTIMEZONE
TZID:Europe/Prague
BEGIN:DAYLIGHT
TZOFFSETFROM:+0100
TZOFFSETTO:+0200
TZNAME:CEST
DTSTART:20190331T010000
END:DAYLIGHT
BEGIN:STANDARD
TZOFFSETFROM:+0200
TZOFFSETTO:+0100
TZNAME:CET
DTSTART:20191027T010000
END:STANDARD
END:VTIMEZONE
BEGIN:VEVENT
DTSTART;VALUE=DATE:20191028
DTEND;VALUE=DATE:20191029
DTSTAMP:20260422T042115
CREATED:20191015T073425Z
LAST-MODIFIED:20191015T073425Z
UID:821-1572220800-1572307199@bsst.stolnitenis.net
SUMMARY:Městský přebor mladšího žactva 2019
DESCRIPTION:MP mladší žactvo 2019
URL:https://bsst.stolnitenis.net/kalendar/mestsky-prebor-mladsiho-zactva-2019/
LOCATION:hala TTC MS Brno\, Vojtova 12\, Brno
END:VEVENT
END:VCALENDAR