BEGIN:VCALENDAR
VERSION:2.0
PRODID:-//BSST - ECPv6.1.3//NONSGML v1.0//EN
CALSCALE:GREGORIAN
METHOD:PUBLISH
X-ORIGINAL-URL:https://bsst.stolnitenis.net
X-WR-CALDESC:Akce na BSST
REFRESH-INTERVAL;VALUE=DURATION:PT1H
X-Robots-Tag:noindex
X-PUBLISHED-TTL:PT1H
BEGIN:VTIMEZONE
TZID:Europe/Prague
BEGIN:DAYLIGHT
TZOFFSETFROM:+0100
TZOFFSETTO:+0200
TZNAME:CEST
DTSTART:20190331T010000
END:DAYLIGHT
BEGIN:STANDARD
TZOFFSETFROM:+0200
TZOFFSETTO:+0100
TZNAME:CET
DTSTART:20191027T010000
END:STANDARD
END:VTIMEZONE
BEGIN:VEVENT
DTSTART;VALUE=DATE:20191019
DTEND;VALUE=DATE:20191020
DTSTAMP:20260422T042232
CREATED:20191003T074946Z
LAST-MODIFIED:20191015T074909Z
UID:819-1571443200-1571529599@bsst.stolnitenis.net
SUMMARY:BTM BSST - mladší a nejmladší žactvo
DESCRIPTION:2019-10-19 Sokol Židenice
URL:https://bsst.stolnitenis.net/kalendar/btm-bsst-mladsi-a-nejmladsi-zactvo/
LOCATION:Sokol Židenice\, Gajdošova 18/20\, Brno\, Jihomoravský\, Česká republika
END:VEVENT
END:VCALENDAR