BEGIN:VCALENDAR
VERSION:2.0
PRODID:-//BSST - ECPv6.1.3//NONSGML v1.0//EN
CALSCALE:GREGORIAN
METHOD:PUBLISH
X-ORIGINAL-URL:https://bsst.stolnitenis.net
X-WR-CALDESC:Akce na BSST
REFRESH-INTERVAL;VALUE=DURATION:PT1H
X-Robots-Tag:noindex
X-PUBLISHED-TTL:PT1H
BEGIN:VTIMEZONE
TZID:Europe/Prague
BEGIN:DAYLIGHT
TZOFFSETFROM:+0100
TZOFFSETTO:+0200
TZNAME:CEST
DTSTART:20180325T010000
END:DAYLIGHT
BEGIN:STANDARD
TZOFFSETFROM:+0200
TZOFFSETTO:+0100
TZNAME:CET
DTSTART:20181028T010000
END:STANDARD
END:VTIMEZONE
BEGIN:VEVENT
DTSTART;TZID=Europe/Prague:20180620T180000
DTEND;TZID=Europe/Prague:20180620T210000
DTSTAMP:20260423T091428
CREATED:20180615T074253Z
LAST-MODIFIED:20180615T074253Z
UID:600-1529517600-1529528400@bsst.stolnitenis.net
SUMMARY:VH BSST
DESCRIPTION:pozvánka na konferenci BSST
URL:https://bsst.stolnitenis.net/kalendar/vh-bsst-2/
LOCATION:restaurace Legenda\, Jiráskova 48\, Brno\, Česká republika
END:VEVENT
END:VCALENDAR