BEGIN:VCALENDAR
VERSION:2.0
PRODID:-//BSST - ECPv6.1.3//NONSGML v1.0//EN
CALSCALE:GREGORIAN
METHOD:PUBLISH
X-ORIGINAL-URL:https://bsst.stolnitenis.net
X-WR-CALDESC:Akce na BSST
REFRESH-INTERVAL;VALUE=DURATION:PT1H
X-Robots-Tag:noindex
X-PUBLISHED-TTL:PT1H
BEGIN:VTIMEZONE
TZID:Europe/Prague
BEGIN:DAYLIGHT
TZOFFSETFROM:+0100
TZOFFSETTO:+0200
TZNAME:CEST
DTSTART:20180325T010000
END:DAYLIGHT
BEGIN:STANDARD
TZOFFSETFROM:+0200
TZOFFSETTO:+0100
TZNAME:CET
DTSTART:20181028T010000
END:STANDARD
END:VTIMEZONE
BEGIN:VEVENT
DTSTART;VALUE=DATE:20180407
DTEND;VALUE=DATE:20180408
DTSTAMP:20260423T124620
CREATED:20180328T074054Z
LAST-MODIFIED:20180328T074055Z
UID:567-1523059200-1523145599@bsst.stolnitenis.net
SUMMARY:BTM JmK - Hodonín
DESCRIPTION:BTM_Hodonin-B-2018
URL:https://bsst.stolnitenis.net/kalendar/btm-jmk-hodonin-4/
LOCATION:Hodonín\, Lipová alej 23b\, Hodonín
END:VEVENT
END:VCALENDAR