BEGIN:VCALENDAR
VERSION:2.0
PRODID:-//BSST - ECPv6.1.3//NONSGML v1.0//EN
CALSCALE:GREGORIAN
METHOD:PUBLISH
X-WR-CALNAME:BSST
X-ORIGINAL-URL:https://bsst.stolnitenis.net
X-WR-CALDESC:Akce na BSST
REFRESH-INTERVAL;VALUE=DURATION:PT1H
X-Robots-Tag:noindex
X-PUBLISHED-TTL:PT1H
BEGIN:VTIMEZONE
TZID:Europe/Prague
BEGIN:DAYLIGHT
TZOFFSETFROM:+0100
TZOFFSETTO:+0200
TZNAME:CEST
DTSTART:20170326T010000
END:DAYLIGHT
BEGIN:STANDARD
TZOFFSETFROM:+0200
TZOFFSETTO:+0100
TZNAME:CET
DTSTART:20171029T010000
END:STANDARD
END:VTIMEZONE
BEGIN:VEVENT
DTSTART;VALUE=DATE:20170514
DTEND;VALUE=DATE:20170515
DTSTAMP:20260424T072453
CREATED:20170321T084442Z
LAST-MODIFIED:20170321T085748Z
UID:414-1494720000-1494806399@bsst.stolnitenis.net
SUMMARY:ŽT JmK - mladší žactvo
DESCRIPTION:zt_mz16-17
URL:https://bsst.stolnitenis.net/kalendar/zt-jmk-mladsi-zactvo/
LOCATION:Strážnice\, hala stolního tenisu Jiskra Strážnice\, u fotbalového stadionu\, Strážnice
END:VEVENT
END:VCALENDAR