BEGIN:VCALENDAR
VERSION:2.0
PRODID:-//BSST - ECPv6.1.3//NONSGML v1.0//EN
CALSCALE:GREGORIAN
METHOD:PUBLISH
X-ORIGINAL-URL:https://bsst.stolnitenis.net
X-WR-CALDESC:Akce na BSST
REFRESH-INTERVAL;VALUE=DURATION:PT1H
X-Robots-Tag:noindex
X-PUBLISHED-TTL:PT1H
BEGIN:VTIMEZONE
TZID:Europe/Prague
BEGIN:DAYLIGHT
TZOFFSETFROM:+0100
TZOFFSETTO:+0200
TZNAME:CEST
DTSTART:20170326T010000
END:DAYLIGHT
BEGIN:STANDARD
TZOFFSETFROM:+0200
TZOFFSETTO:+0100
TZNAME:CET
DTSTART:20171029T010000
END:STANDARD
END:VTIMEZONE
BEGIN:VEVENT
DTSTART;VALUE=DATE:20170513
DTEND;VALUE=DATE:20170514
DTSTAMP:20260424T072821
CREATED:20170321T084831Z
LAST-MODIFIED:20170321T085829Z
UID:415-1494633600-1494719999@bsst.stolnitenis.net
SUMMARY:ŽT JmK -starší žactvo
DESCRIPTION:zt_stz16-17
URL:https://bsst.stolnitenis.net/kalendar/zt-jmk-starsi-zactvo/
LOCATION:tělocvična ZŠ\, Vinařská 719/29\, Klobouky u Brna\, Jihomoravský\, Česká republika
END:VEVENT
END:VCALENDAR