BEGIN:VCALENDAR
VERSION:2.0
PRODID:-//BSST - ECPv6.1.3//NONSGML v1.0//EN
CALSCALE:GREGORIAN
METHOD:PUBLISH
X-ORIGINAL-URL:https://bsst.stolnitenis.net
X-WR-CALDESC:Akce na BSST
REFRESH-INTERVAL;VALUE=DURATION:PT1H
X-Robots-Tag:noindex
X-PUBLISHED-TTL:PT1H
BEGIN:VTIMEZONE
TZID:Europe/Prague
BEGIN:DAYLIGHT
TZOFFSETFROM:+0100
TZOFFSETTO:+0200
TZNAME:CEST
DTSTART:20170326T010000
END:DAYLIGHT
BEGIN:STANDARD
TZOFFSETFROM:+0200
TZOFFSETTO:+0100
TZNAME:CET
DTSTART:20171029T010000
END:STANDARD
END:VTIMEZONE
BEGIN:VEVENT
DTSTART;VALUE=DATE:20170409
DTEND;VALUE=DATE:20170410
DTSTAMP:20260424T091158
CREATED:20170321T084231Z
LAST-MODIFIED:20170324T093301Z
UID:412-1491696000-1491782399@bsst.stolnitenis.net
SUMMARY:BTM JmK - Hodonín
DESCRIPTION:Hodoni_BTM_B_-_propozice_2017
URL:https://bsst.stolnitenis.net/kalendar/btm-jmk-hodonin-3/
LOCATION:Hodonín\, Lipová alej 23b\, Hodonín
END:VEVENT
END:VCALENDAR