BEGIN:VCALENDAR
VERSION:2.0
PRODID:-//BSST - ECPv6.1.3//NONSGML v1.0//EN
CALSCALE:GREGORIAN
METHOD:PUBLISH
X-WR-CALNAME:BSST
X-ORIGINAL-URL:https://bsst.stolnitenis.net
X-WR-CALDESC:Akce na BSST
REFRESH-INTERVAL;VALUE=DURATION:PT1H
X-Robots-Tag:noindex
X-PUBLISHED-TTL:PT1H
BEGIN:VTIMEZONE
TZID:Europe/Prague
BEGIN:DAYLIGHT
TZOFFSETFROM:+0100
TZOFFSETTO:+0200
TZNAME:CEST
DTSTART:20170326T010000
END:DAYLIGHT
BEGIN:STANDARD
TZOFFSETFROM:+0200
TZOFFSETTO:+0100
TZNAME:CET
DTSTART:20171029T010000
END:STANDARD
END:VTIMEZONE
BEGIN:VEVENT
DTSTART;VALUE=DATE:20170402
DTEND;VALUE=DATE:20170403
DTSTAMP:20260424T091000
CREATED:20170321T084101Z
LAST-MODIFIED:20170324T093342Z
UID:410-1491091200-1491177599@bsst.stolnitenis.net
SUMMARY:BTM JmK - Moravský Krumlov
DESCRIPTION:rozpis_MK_2017
URL:https://bsst.stolnitenis.net/kalendar/btm-jmk-moravsky-krumlov-2/
LOCATION:Moravský Krumlov\, Sportovní hala\, Nádražní 698\, Moravský Krumlov
END:VEVENT
END:VCALENDAR