BEGIN:VCALENDAR
VERSION:2.0
PRODID:-//BSST - ECPv6.1.3//NONSGML v1.0//EN
CALSCALE:GREGORIAN
METHOD:PUBLISH
X-WR-CALNAME:BSST
X-ORIGINAL-URL:https://bsst.stolnitenis.net
X-WR-CALDESC:Akce na BSST
REFRESH-INTERVAL;VALUE=DURATION:PT1H
X-Robots-Tag:noindex
X-PUBLISHED-TTL:PT1H
BEGIN:VTIMEZONE
TZID:Europe/Prague
BEGIN:DAYLIGHT
TZOFFSETFROM:+0100
TZOFFSETTO:+0200
TZNAME:CEST
DTSTART:20160327T010000
END:DAYLIGHT
BEGIN:STANDARD
TZOFFSETFROM:+0200
TZOFFSETTO:+0100
TZNAME:CET
DTSTART:20161030T010000
END:STANDARD
END:VTIMEZONE
BEGIN:VEVENT
DTSTART;VALUE=DATE:20161217
DTEND;VALUE=DATE:20161218
DTSTAMP:20260424T160300
CREATED:20161212T085120Z
LAST-MODIFIED:20161212T085120Z
UID:354-1481932800-1482019199@bsst.stolnitenis.net
SUMMARY:BTM BSST - TTC MS Brno
DESCRIPTION:2016_12_17-ms-brno
URL:https://bsst.stolnitenis.net/kalendar/btm-bsst-ttc-ms-brno-2/
LOCATION:hala TTC MS Brno\, Vojtova 12\, Brno
END:VEVENT
END:VCALENDAR