BEGIN:VCALENDAR
VERSION:2.0
PRODID:-//BSST - ECPv6.1.3//NONSGML v1.0//EN
CALSCALE:GREGORIAN
METHOD:PUBLISH
X-WR-CALNAME:BSST
X-ORIGINAL-URL:https://bsst.stolnitenis.net
X-WR-CALDESC:Akce na BSST
REFRESH-INTERVAL;VALUE=DURATION:PT1H
X-Robots-Tag:noindex
X-PUBLISHED-TTL:PT1H
BEGIN:VTIMEZONE
TZID:Europe/Prague
BEGIN:DAYLIGHT
TZOFFSETFROM:+0100
TZOFFSETTO:+0200
TZNAME:CEST
DTSTART:20150329T010000
END:DAYLIGHT
BEGIN:STANDARD
TZOFFSETFROM:+0200
TZOFFSETTO:+0100
TZNAME:CET
DTSTART:20151025T010000
END:STANDARD
END:VTIMEZONE
BEGIN:VEVENT
DTSTART;VALUE=DATE:20151206
DTEND;VALUE=DATE:20151207
DTSTAMP:20260425T125225
CREATED:20151123T084315Z
LAST-MODIFIED:20151123T084315Z
UID:187-1449360000-1449446399@bsst.stolnitenis.net
SUMMARY:městský přebor staršího a mladšího žactva
DESCRIPTION:MP starší žactvo \nMP mladší žactvo
URL:https://bsst.stolnitenis.net/kalendar/mestsky-prebor-starsiho-a-mladsiho-zactva/
LOCATION:hala TTC MS Brno\, Vojtova 12\, Brno
END:VEVENT
END:VCALENDAR