BEGIN:VCALENDAR
VERSION:2.0
PRODID:-//BSST - ECPv6.1.3//NONSGML v1.0//EN
CALSCALE:GREGORIAN
METHOD:PUBLISH
X-ORIGINAL-URL:https://bsst.stolnitenis.net
X-WR-CALDESC:Akce na BSST
REFRESH-INTERVAL;VALUE=DURATION:PT1H
X-Robots-Tag:noindex
X-PUBLISHED-TTL:PT1H
BEGIN:VTIMEZONE
TZID:Europe/Prague
BEGIN:DAYLIGHT
TZOFFSETFROM:+0100
TZOFFSETTO:+0200
TZNAME:CEST
DTSTART:20150329T010000
END:DAYLIGHT
BEGIN:STANDARD
TZOFFSETFROM:+0200
TZOFFSETTO:+0100
TZNAME:CET
DTSTART:20151025T010000
END:STANDARD
END:VTIMEZONE
BEGIN:VEVENT
DTSTART;VALUE=DATE:20151121
DTEND;VALUE=DATE:20151122
DTSTAMP:20260425T145958
CREATED:20151101T150542Z
LAST-MODIFIED:20151101T150542Z
UID:177-1448064000-1448150399@bsst.stolnitenis.net
SUMMARY:BTM BSST - Sokol Brno I.
DESCRIPTION:2015_11_21 Sokol Brno
URL:https://bsst.stolnitenis.net/kalendar/btm-bsst-sokol-brno-i/
LOCATION:Sokol Brno I.\, Kounicova 20/22\, Brno\, Jihomoravský\, 602 00\, Česká republika
END:VEVENT
END:VCALENDAR